BEGIN:VCALENDAR
VERSION:2.0
PRODID:-//Chino Mosque - ECPv6.15.20//NONSGML v1.0//EN
CALSCALE:GREGORIAN
METHOD:PUBLISH
X-ORIGINAL-URL:https://socalmuslims.org
X-WR-CALDESC:Events for Chino Mosque
REFRESH-INTERVAL;VALUE=DURATION:PT1H
X-Robots-Tag:noindex
X-PUBLISHED-TTL:PT1H
BEGIN:VTIMEZONE
TZID:America/Los_Angeles
BEGIN:DAYLIGHT
TZOFFSETFROM:-0800
TZOFFSETTO:-0700
TZNAME:PDT
DTSTART:20200308T100000
END:DAYLIGHT
BEGIN:STANDARD
TZOFFSETFROM:-0700
TZOFFSETTO:-0800
TZNAME:PST
DTSTART:20201101T090000
END:STANDARD
BEGIN:DAYLIGHT
TZOFFSETFROM:-0800
TZOFFSETTO:-0700
TZNAME:PDT
DTSTART:20210314T100000
END:DAYLIGHT
BEGIN:STANDARD
TZOFFSETFROM:-0700
TZOFFSETTO:-0800
TZNAME:PST
DTSTART:20211107T090000
END:STANDARD
BEGIN:DAYLIGHT
TZOFFSETFROM:-0800
TZOFFSETTO:-0700
TZNAME:PDT
DTSTART:20220313T100000
END:DAYLIGHT
BEGIN:STANDARD
TZOFFSETFROM:-0700
TZOFFSETTO:-0800
TZNAME:PST
DTSTART:20221106T090000
END:STANDARD
BEGIN:DAYLIGHT
TZOFFSETFROM:-0800
TZOFFSETTO:-0700
TZNAME:PDT
DTSTART:20230312T100000
END:DAYLIGHT
BEGIN:STANDARD
TZOFFSETFROM:-0700
TZOFFSETTO:-0800
TZNAME:PST
DTSTART:20231105T090000
END:STANDARD
BEGIN:DAYLIGHT
TZOFFSETFROM:-0800
TZOFFSETTO:-0700
TZNAME:PDT
DTSTART:20240310T100000
END:DAYLIGHT
BEGIN:STANDARD
TZOFFSETFROM:-0700
TZOFFSETTO:-0800
TZNAME:PST
DTSTART:20241103T090000
END:STANDARD
BEGIN:DAYLIGHT
TZOFFSETFROM:-0800
TZOFFSETTO:-0700
TZNAME:PDT
DTSTART:20250309T100000
END:DAYLIGHT
BEGIN:STANDARD
TZOFFSETFROM:-0700
TZOFFSETTO:-0800
TZNAME:PST
DTSTART:20251102T090000
END:STANDARD
BEGIN:DAYLIGHT
TZOFFSETFROM:-0800
TZOFFSETTO:-0700
TZNAME:PDT
DTSTART:20260308T100000
END:DAYLIGHT
BEGIN:STANDARD
TZOFFSETFROM:-0700
TZOFFSETTO:-0800
TZNAME:PST
DTSTART:20261101T090000
END:STANDARD
END:VTIMEZONE
BEGIN:VEVENT
DTSTART;TZID=America/Los_Angeles:20250323T173000
DTEND;TZID=America/Los_Angeles:20250323T193000
DTSTAMP:20260424T024128
CREATED:20250302T010827Z
LAST-MODIFIED:20250302T012506Z
UID:4506-1742751000-1742758200@socalmuslims.org
SUMMARY:Promised Messiah Day - March 23th
DESCRIPTION:All religions contain prophecies that foretell the advent of a special individual\, who will come as a reformer in the latter days.  In Islam\, Muslims await a promised Mahdi and Messiah.  The advent of the Promised Messiah(as) was prophesized by the Holy Prophet Muhammad(sa) himself.  As members of the Ahmadiyya Muslim Community\, we believe Hazrat Mirza Ghulam Ahmad (peace be on him) is that Promised Reformer of the later age.   \nJoin us on Sunday\, March 23rd at 5:30 PM to commemorate and reflect on the life and teachings of the Promised Messiah!
URL:https://socalmuslims.org/event/promised-messiah-day-march-23th/
LOCATION:Baitul Hameed Mosque\, 11941 Ramona Ave\, Chino\, CA\, 91710\, United States
END:VEVENT
BEGIN:VEVENT
DTSTART;TZID=America/Los_Angeles:20250315T173000
DTEND;TZID=America/Los_Angeles:20250315T193000
DTSTAMP:20260424T024128
CREATED:20250302T005736Z
LAST-MODIFIED:20250302T010903Z
UID:4505-1742059800-1742067000@socalmuslims.org
SUMMARY:Interfaith Iftar Dinner - March 15th
DESCRIPTION:You are warmly invited to our Interfaith Iftar Dinner\, a special evening dedicated to fostering understanding and unity among diverse faith communities.  Join us as we come together to break our fast\, share a meal\, and engage in enriching conversations about our beliefs and values. \nWhen: Saturday\, March 15th\nTime: 5:30 PM\nWhere: Baitul Hameed Mosque in Chino\, California\nAddress: 11941 Ramona Ave\, Chino\, CA 91710
URL:https://socalmuslims.org/event/interfaith-iftar-dinner-march-15th/
LOCATION:Baitul Hameed Mosque\, 11941 Ramona Ave\, Chino\, CA\, 91710\, United States
END:VEVENT
BEGIN:VEVENT
DTSTART;VALUE=DATE:20250301
DTEND;VALUE=DATE:20250331
DTSTAMP:20260424T024128
CREATED:20250302T011525Z
LAST-MODIFIED:20250302T011915Z
UID:4507-1740787200-1743379199@socalmuslims.org
SUMMARY:Ramadhan + Downloadable Calendar
DESCRIPTION:Ramadan is the ninth month of the Islamic lunar calendar\, observed by Muslims worldwide as a month of fasting\, prayer\, and reflection. During this time\, Muslims fast from dawn until sunset\, refraining from food\, drink\, and other physical needs to spiritual enrichment and self-discipline. The month culminates in the celebration of Eid al-Fitr\, marking the end of fasting and a time for communal prayers\, feasting\, and charity. \nBelow is the daily Ramadhan Calendar with prayer timings and fasting start & end times. \n			\n				\n					\n						\n							\n							Loading...\n						\n					\n					\n						\n							\n							Taking too long?\n						\n						\n							\n								 Reload document							\n							|\n							\n								 Open in new tab							\n					\n				\n			\n		Download [5.69 MB]
URL:https://socalmuslims.org/event/ramadhan-downloadable-calendar/
LOCATION:Baitul Hameed Mosque\, 11941 Ramona Ave\, Chino\, CA\, 91710\, United States
END:VEVENT
BEGIN:VEVENT
DTSTART;VALUE=DATE:20241227
DTEND;VALUE=DATE:20241230
DTSTAMP:20260424T024129
CREATED:20240824T171052Z
LAST-MODIFIED:20240824T171052Z
UID:4341-1735257600-1735516799@socalmuslims.org
SUMMARY:West Coast Jalsa Salana - Dec. 27-29th\, 2024
DESCRIPTION:West Coast Jalsa Salana\, December 27th – 29th\, 2024 \nHome
URL:https://socalmuslims.org/event/west-coast-jalsa-salana-dec-27-29th-2024/
LOCATION:Baitul Hameed Mosque\, 11941 Ramona Ave\, Chino\, CA\, 91710\, United States
END:VEVENT
BEGIN:VEVENT
DTSTART;TZID=America/Los_Angeles:20240914T100000
DTEND;TZID=America/Los_Angeles:20240914T160000
DTSTAMP:20260424T024129
CREATED:20240824T165203Z
LAST-MODIFIED:20240824T165307Z
UID:4336-1726308000-1726329600@socalmuslims.org
SUMMARY:Ansar Family Day - Saturday Sept. 14th 2024
DESCRIPTION:Dear members of the Los Angeles Jama’at\,\n \nAssalamo Alaikum\n \nMajlis Ansarullah Los Angeles will be hosting the another Family Fun Day on Saturday\, September 14th from 10am to 4pm at Baitul Hameed Mosque. This Family Fun Day is for all Jama’at members including lajna\, nasirat\, ansar\, atfal\, and khuddam. \n\n \nSome background about Family Day:  This was an Ansar Shura proposal that was graciously approved by Huzoor (aba). This Family Day will have a variety of food\, different fun activities\, and interactive sessions.  \n \nMembers are humbly requested to come and enjoy each others company!\n\n \n\n\nWassalam\nZakaria A. Sayed\nGeneral Secretary\, Los Angeles \n909-636-8375
URL:https://socalmuslims.org/event/ansar-family-day-saturday-sept-14th-2024/
LOCATION:Baitul Hameed Mosque\, 11941 Ramona Ave\, Chino\, CA\, 91710\, United States
END:VEVENT
BEGIN:VEVENT
DTSTART;TZID=America/Los_Angeles:20240908T090000
DTEND;TZID=America/Los_Angeles:20240908T150000
DTSTAMP:20260424T024129
CREATED:20240824T165918Z
LAST-MODIFIED:20240824T170442Z
UID:4338-1725786000-1725807600@socalmuslims.org
SUMMARY:Muslims For Life Blood Drive - Sunday\, Sept. 8th
DESCRIPTION:Dear members of the Los Angeles Jama’at\, \nAssalamo Alaikum\n \nWe will be hosting a Muslims For Life Blood Drive on Sunday\, September 8th from 9:00-3:00 pm at Baitul Hameed Mosque\, insha’Allah. \n \nMembers who are interested and able to donate are encouraged to visit RedCrossBlood.org and search for location code: BHMC to schedule an appointment. \n \n\n\nJazakallah \nWassalam \nZakaria. 
URL:https://socalmuslims.org/event/muslims-for-life-blood-drive-sunday-sept-8th/
LOCATION:Baitul Hameed Mosque\, 11941 Ramona Ave\, Chino\, CA\, 91710\, United States
END:VEVENT
BEGIN:VEVENT
DTSTART;TZID=America/Los_Angeles:20240901T110000
DTEND;TZID=America/Los_Angeles:20240901T133000
DTSTAMP:20260424T024129
CREATED:20240823T233831Z
LAST-MODIFIED:20240825T174810Z
UID:4304-1725188400-1725197400@socalmuslims.org
SUMMARY:Los Angeles Jama’at General Meeting - Sunday Sept. 1st 2024
DESCRIPTION:Dear members of the Los Angeles Jama’at\,\n \nAssalamo Alaikum\n \nWe will be holding a Jama’at General Meeting on Sunday\, September 1st at Baitul Hameed Mosque starting at 11:00 AM.  For members residing great distances\, a hybrid option will be available.  Zoom info is below. \n \nThis General Meeting will focus on the current Graveyard situation for Los Angeles\, and a presentation will be given outlining the 3-4 various options we have for the future.  Members’ participation and input will be of paramount importance in deciding which route we proceed with\, so please prioritize attending this meeting in person. \n \nSimilarly\, we will hold a special Farewell Program for respected Amir Ud Din sahib\, who will be moving to Virginia to reside with his daughter.  As many of you know\, Amir Ud Din sahib was one of the early pioneer members of the Los Angeles Jama’at\, and has been a resident of Southern Californiafor over 60+ years.  Members will have an opportunity to share their fond memories of Amir Ud Din sahib\, and to thank him for the countless years of service he has given to the Los Angeles Jama’at. \n \nWassalam\n\n\nZakaria A. Sayed\nGeneral Secretary\, Los Angeles \n909-636-8375
URL:https://socalmuslims.org/event/los-angeles-jamaat-general-meeting-sunday-sept-1st-2024/
LOCATION:Baitul Hameed Mosque\, 11941 Ramona Ave\, Chino\, CA\, 91710\, United States
END:VEVENT
BEGIN:VEVENT
DTSTART;TZID=America/Los_Angeles:20240831T160000
DTEND;TZID=America/Los_Angeles:20240831T170000
DTSTAMP:20260424T024129
CREATED:20240825T184224Z
LAST-MODIFIED:20240825T184224Z
UID:4358-1725120000-1725123600@socalmuslims.org
SUMMARY:Waqfe-Jadid Webinar with Respected Ameer sahib - Sat. Aug. 31st\, 2024
DESCRIPTION:السلام عليكم ورحمة الله وبركاته \nAt the request of Nasirullah Ahmad Sahib\, National Secretary Waqf Jadid\, I am sending the following message for all members’ information. Kindly share with your members. \nA webinar on The Blessings of Waqfe-Jadid has been organized on Saturday\, August 31st\, at 4:00 PM PT. Respected Ameer Sahib will preside over the webinar\, InshaAllah. All jama’at members are requested to attend with their entire family. \nDate & Time: Saturday\, August 31st at 4:00 PM PT\nZoom Link: https://tinyurl.com/w-jadid\nWebinar ID: 916 7453 9648\nPasscode: 224202 \n \nWassalam\,\nRequesting Prayers \nMukhtar Ahmad Malhi\nGeneral Secretary USA Jamaat
URL:https://socalmuslims.org/event/waqfe-jadid-webinar-with-respected-ameer-sahib-sat-aug-31st-2024/
LOCATION:CA
END:VEVENT
BEGIN:VEVENT
DTSTART;TZID=America/Los_Angeles:20240831T110000
DTEND;TZID=America/Los_Angeles:20240831T180000
DTSTAMP:20260424T024129
CREATED:20240824T170635Z
LAST-MODIFIED:20240825T174520Z
UID:4340-1725102000-1725127200@socalmuslims.org
SUMMARY:Spiritual Fitness Camp - Saturday\, Aug. 31st 2024
DESCRIPTION:﷽\n \nDear and Respected members of Los Angeles and San Diego Jama’at\n\nاَلسَّلاَ مُ عَلَيْكُمْ وَرَحْمَةُ اللهِ وَبَرَكَا تُهُ\nMajlis-e-Shura USA recommended Spiritual Fitness camps to be conducted to engage the youth through dialogue\, sports\, field trips\, and friendships.\nBy the Grace of Allah\, Los Angeles Tarbiyat department\, in collaboration with all the local Auxiliaries\, will hold “Spiritual fitness Camp” on Saturday August 31st\, 2024 \nat Baitul Hameed Mosque\, InshAllah. This would be an in-person one-day event for the Boys and Girls (This includes Atfal\, Khuddam\, Nasirat and Lajna) \nages from 15 to 25 of Los Angeles and San Diego Jama’at. The program will start at 11:00 am\, InshAllah.\n\n\n \nI am requesting every parent and guardian to encourage all the youths ( Atfal\, Khuddam\, Nasirat and Lajna) of your household to register for this program at https://forms.gle/N8ZSscgkBcJXQ99T8  \nand attend this program. Also\, the attendees can send any anonymous questions that they like to ask or that they have in their mind by clicking the link: https://forms.gle/wupDxhKa1cWEyrVD9\nInshAllah\, we will try to answer that question during this program.\n\n\n\nJazakAllah\n \nWassalam\n\nMoyenuddin Sirajee\nServing Los Angeles Tarbiyat Department
URL:https://socalmuslims.org/event/spiritual-fitness-camp-saturday-aug-31st-2024/
LOCATION:Baitul Hameed Mosque\, 11941 Ramona Ave\, Chino\, CA\, 91710\, United States
END:VEVENT
BEGIN:VEVENT
DTSTART;TZID=America/Los_Angeles:20220807T090000
DTEND;TZID=America/Los_Angeles:20220807T090000
DTSTAMP:20260424T024129
CREATED:20220714T132554Z
LAST-MODIFIED:20220714T132554Z
UID:3420-1659862800-1659862800@socalmuslims.org
SUMMARY:Auxiliary Meetings
DESCRIPTION:
URL:https://socalmuslims.org/event/auxiliary-meetings/
LOCATION:CA
END:VEVENT
BEGIN:VEVENT
DTSTART;TZID=America/Los_Angeles:20220807T080000
DTEND;TZID=America/Los_Angeles:20220807T080000
DTSTAMP:20260424T024129
CREATED:20220714T132549Z
LAST-MODIFIED:20220714T132549Z
UID:3415-1659859200-1659859200@socalmuslims.org
SUMMARY:Jamaat General Meeting
DESCRIPTION:
URL:https://socalmuslims.org/event/jamaat-general-meeting/
LOCATION:CA
END:VEVENT
BEGIN:VEVENT
DTSTART;VALUE=DATE:20220806
DTEND;VALUE=DATE:20220808
DTSTAMP:20260424T024129
CREATED:20220714T132623Z
LAST-MODIFIED:20220714T132623Z
UID:3430-1659819600-1659905999@socalmuslims.org
SUMMARY:Jalsa UK
DESCRIPTION:
URL:https://socalmuslims.org/event/jalsa-uk-3/
LOCATION:CA
END:VEVENT
BEGIN:VEVENT
DTSTART;VALUE=DATE:20220805
DTEND;VALUE=DATE:20220807
DTSTAMP:20260424T024129
CREATED:20220714T132610Z
LAST-MODIFIED:20220714T132610Z
UID:3429-1659733200-1659819599@socalmuslims.org
SUMMARY:Jalsa UK
DESCRIPTION:
URL:https://socalmuslims.org/event/jalsa-uk-2/
LOCATION:CA
END:VEVENT
BEGIN:VEVENT
DTSTART;VALUE=DATE:20220804
DTEND;VALUE=DATE:20220806
DTSTAMP:20260424T024129
CREATED:20220714T132609Z
LAST-MODIFIED:20220714T132609Z
UID:3428-1659646800-1659733199@socalmuslims.org
SUMMARY:Jalsa UK
DESCRIPTION:
URL:https://socalmuslims.org/event/jalsa-uk/
LOCATION:CA
END:VEVENT
BEGIN:VEVENT
DTSTART;VALUE=DATE:20220716
DTEND;VALUE=DATE:20220718
DTSTAMP:20260424T024129
CREATED:20220714T132609Z
LAST-MODIFIED:20220714T132609Z
UID:3427-1658005200-1658091599@socalmuslims.org
SUMMARY:Jalsa Canada
DESCRIPTION:
URL:https://socalmuslims.org/event/jalsa-canada-3/
LOCATION:CA
END:VEVENT
BEGIN:VEVENT
DTSTART;VALUE=DATE:20220715
DTEND;VALUE=DATE:20220717
DTSTAMP:20260424T024129
CREATED:20220714T132609Z
LAST-MODIFIED:20220714T132609Z
UID:3426-1657918800-1658005199@socalmuslims.org
SUMMARY:Jalsa Canada
DESCRIPTION:
URL:https://socalmuslims.org/event/jalsa-canada-2/
LOCATION:CA
END:VEVENT
BEGIN:VEVENT
DTSTART;VALUE=DATE:20220714
DTEND;VALUE=DATE:20220716
DTSTAMP:20260424T024129
CREATED:20220714T132608Z
LAST-MODIFIED:20220714T132608Z
UID:3425-1657832400-1657918799@socalmuslims.org
SUMMARY:Jalsa Canada
DESCRIPTION:
URL:https://socalmuslims.org/event/jalsa-canada/
LOCATION:CA
END:VEVENT
BEGIN:VEVENT
DTSTART;VALUE=DATE:20220616
DTEND;VALUE=DATE:20220620
DTSTAMP:20260424T024129
CREATED:20220429T151142Z
LAST-MODIFIED:20220429T151142Z
UID:3286-1655416800-1655675999@socalmuslims.org
SUMMARY:Jalsa Salana
DESCRIPTION:
URL:https://socalmuslims.org/event/jalsa-salana/
LOCATION:CA
END:VEVENT
BEGIN:VEVENT
DTSTART;TZID=America/Los_Angeles:20220501T220000
DTEND;TZID=America/Los_Angeles:20220501T220000
DTSTAMP:20260424T024129
CREATED:20220429T151142Z
LAST-MODIFIED:20220429T151142Z
UID:3285-1651442400-1651442400@socalmuslims.org
SUMMARY:Eidul Fitr
DESCRIPTION:Eidul Fitr 2022
URL:https://socalmuslims.org/event/eidul-fitr/
LOCATION:Masjid Baitul Hadi\, 27 South Street\, Old Bridge\, NJ\, 08857\, United States
END:VEVENT
BEGIN:VEVENT
DTSTART;TZID=America/Los_Angeles:20220409T153000
DTEND;TZID=America/Los_Angeles:20220409T173000
DTSTAMP:20260424T024129
CREATED:20220331T044414Z
LAST-MODIFIED:20220331T044459Z
UID:3039-1649518200-1649525400@socalmuslims.org
SUMMARY:Interfaith Iftar
DESCRIPTION:CEJ Jamaat will hold and interfaith Iftar on Saturday April 9th. The program will start at 6:30 pm. Please invite your guests. \nBelal Khalid\nSecretary Public Affairs
URL:https://socalmuslims.org/event/interfaith-iftar/
LOCATION:CA
END:VEVENT
BEGIN:VEVENT
DTSTART;VALUE=DATE:20220401
DTEND;VALUE=DATE:20220404
DTSTAMP:20260424T024129
CREATED:20220331T044742Z
LAST-MODIFIED:20220331T044742Z
UID:3041-1648846800-1649019599@socalmuslims.org
SUMMARY:Central Jersey MKA Local Ijtema
DESCRIPTION:Central Jersey MKA Local Ijtema will be held the weekend of April 2nd and April 3rd\n• Saturday\, April 2nd will be a sports day\n• Sunday\, April 3rd will be for Taleem competitions.\nMore details should be out as the date gets closer. \nPlease contact Qaid CEJ\, Fawad Mubashir Sahib\, with any questions.
URL:https://socalmuslims.org/event/central-jersey-mka-local-ijtema/
LOCATION:CA
END:VEVENT
BEGIN:VEVENT
DTSTART;TZID=America/Los_Angeles:20220320T103000
DTEND;TZID=America/Los_Angeles:20220320T140000
DTSTAMP:20260424T024129
CREATED:20220317T034342Z
LAST-MODIFIED:20220317T034342Z
UID:2880-1647772200-1647784800@socalmuslims.org
SUMMARY:Jama'at Elections Central Jersey 2022
DESCRIPTION:Central Jersey Jama’at will hold it’s general election and shura delegate elections on Saturday March 20th at 1:30pm at Masjid Baitul Hadi. \nAll eligible members must take part in this election. Respected Hafiz Samiullah Chaudary Sahib will preside over the election process. \nAll eligible members have been notified for elections. If you have not been contacted and feel you are eligible\, please call Finance Secretary Dr Mir Maqbool Sahib\, Additional Finance Secretary Muzaffar Khurram Sb\, or myself as soon as possible. \nAbdul Nasir  \nPresident Central Jersey
URL:https://socalmuslims.org/event/jamaat-elections-central-jersey-2022/
LOCATION:Masjid Baitul Hadi\, 27 South Street\, Old Bridge\, NJ\, 08857\, United States
END:VEVENT
BEGIN:VEVENT
DTSTART;TZID=America/Los_Angeles:20210829T023000
DTEND;TZID=America/Los_Angeles:20210829T023000
DTSTAMP:20260424T024129
CREATED:20210812T044448Z
LAST-MODIFIED:20210812T044549Z
UID:2628-1630204200-1630204200@socalmuslims.org
SUMMARY:Jama’at Amla Meeting
DESCRIPTION:After Fajr Prayers\nFajr prayers at 5:30am\nAll secretaries and assistant secretaries must attend.
URL:https://socalmuslims.org/event/jamaat-amla-meeting/
LOCATION:CA
END:VEVENT
BEGIN:VEVENT
DTSTART;TZID=America/Los_Angeles:20210822T060000
DTEND;TZID=America/Los_Angeles:20210822T110000
DTSTAMP:20260424T024129
CREATED:20210812T044249Z
LAST-MODIFIED:20210812T044249Z
UID:2626-1629612000-1629630000@socalmuslims.org
SUMMARY:MAJLIS ANSARULLAH NE REGIONAL IJTEMA
DESCRIPTION:All vaccinated ansar should attend.\nActivities:\nTarbiyyat session\, Sports\, BBQ
URL:https://socalmuslims.org/event/majlis-ansarullah-ne-regional-ijtema/
LOCATION:CA
END:VEVENT
BEGIN:VEVENT
DTSTART;VALUE=DATE:20210821
DTEND;VALUE=DATE:20210823
DTSTAMP:20260424T024129
CREATED:20210812T044149Z
LAST-MODIFIED:20210812T044149Z
UID:2624-1629579600-1629665999@socalmuslims.org
SUMMARY:MAJLIS KHUDAM UL AHMADIYYA REGIONAL IJTEMA
DESCRIPTION:WHO SHOULD ATTEND: all vaccinated Khuddam and Atafal.*
URL:https://socalmuslims.org/event/majlis-khudam-ul-ahmadiyya-regional-ijtema/
LOCATION:CA
END:VEVENT
BEGIN:VEVENT
DTSTART;TZID=America/Los_Angeles:20210808T090000
DTEND;TZID=America/Los_Angeles:20210808T110000
DTSTAMP:20260424T024129
CREATED:20210804T200321Z
LAST-MODIFIED:20210804T200321Z
UID:2581-1628413200-1628420400@socalmuslims.org
SUMMARY:Jalsa UK21: Closing Address
DESCRIPTION:
URL:https://socalmuslims.org/event/jalsa-uk21-closing-address/
LOCATION:MTA.TV
END:VEVENT
BEGIN:VEVENT
DTSTART;TZID=America/Los_Angeles:20210807T090000
DTEND;TZID=America/Los_Angeles:20210807T103000
DTSTAMP:20260424T024129
CREATED:20210804T200244Z
LAST-MODIFIED:20210804T200244Z
UID:2579-1628326800-1628332200@socalmuslims.org
SUMMARY:Jalsa UK21: Evening Address
DESCRIPTION:
URL:https://socalmuslims.org/event/jalsa-uk21-evening-address/
LOCATION:MTA.TV
END:VEVENT
BEGIN:VEVENT
DTSTART;TZID=America/Los_Angeles:20210807T043000
DTEND;TZID=America/Los_Angeles:20210807T053000
DTSTAMP:20260424T024129
CREATED:20210804T200206Z
LAST-MODIFIED:20210804T200206Z
UID:2577-1628310600-1628314200@socalmuslims.org
SUMMARY:Jalsa UK21: Address To Lajna
DESCRIPTION:
URL:https://socalmuslims.org/event/jalsa-uk21-address-to-lajna/
LOCATION:MTA.TV
END:VEVENT
BEGIN:VEVENT
DTSTART;TZID=America/Los_Angeles:20210806T082500
DTEND;TZID=America/Los_Angeles:20210806T093000
DTSTAMP:20260424T024129
CREATED:20210804T200126Z
LAST-MODIFIED:20210804T200126Z
UID:2575-1628238300-1628242200@socalmuslims.org
SUMMARY:Jalsa UK21: Inaugural Address
DESCRIPTION:
URL:https://socalmuslims.org/event/jalsa-uk21-inaugural-address/
LOCATION:MTA.TV
END:VEVENT
BEGIN:VEVENT
DTSTART;TZID=America/Los_Angeles:20210806T050000
DTEND;TZID=America/Los_Angeles:20210806T060000
DTSTAMP:20260424T024129
CREATED:20210804T200020Z
LAST-MODIFIED:20210804T200020Z
UID:2572-1628226000-1628229600@socalmuslims.org
SUMMARY:Jalsa UK21: Friday Sermon
DESCRIPTION:
URL:https://socalmuslims.org/event/jalsa-uk21-friday-sermon/
LOCATION:MTA.TV
END:VEVENT
END:VCALENDAR